BEGIN:VCALENDAR
VERSION:2.0
PRODID:-//The Trapshooting Academy - ECPv6.15.20//NONSGML v1.0//EN
CALSCALE:GREGORIAN
METHOD:PUBLISH
X-ORIGINAL-URL:https://trapshooting.academy
X-WR-CALDESC:Events for The Trapshooting Academy
REFRESH-INTERVAL;VALUE=DURATION:PT1H
X-Robots-Tag:noindex
X-PUBLISHED-TTL:PT1H
BEGIN:VTIMEZONE
TZID:America/Toronto
BEGIN:DAYLIGHT
TZOFFSETFROM:-0500
TZOFFSETTO:-0400
TZNAME:EDT
DTSTART:20160313T070000
END:DAYLIGHT
BEGIN:STANDARD
TZOFFSETFROM:-0400
TZOFFSETTO:-0500
TZNAME:EST
DTSTART:20161106T060000
END:STANDARD
BEGIN:DAYLIGHT
TZOFFSETFROM:-0500
TZOFFSETTO:-0400
TZNAME:EDT
DTSTART:20170312T070000
END:DAYLIGHT
BEGIN:STANDARD
TZOFFSETFROM:-0400
TZOFFSETTO:-0500
TZNAME:EST
DTSTART:20171105T060000
END:STANDARD
BEGIN:DAYLIGHT
TZOFFSETFROM:-0500
TZOFFSETTO:-0400
TZNAME:EDT
DTSTART:20180311T070000
END:DAYLIGHT
BEGIN:STANDARD
TZOFFSETFROM:-0400
TZOFFSETTO:-0500
TZNAME:EST
DTSTART:20181104T060000
END:STANDARD
END:VTIMEZONE
BEGIN:VTIMEZONE
TZID:America/Winnipeg
BEGIN:DAYLIGHT
TZOFFSETFROM:-0600
TZOFFSETTO:-0500
TZNAME:CDT
DTSTART:20150308T080000
END:DAYLIGHT
BEGIN:STANDARD
TZOFFSETFROM:-0500
TZOFFSETTO:-0600
TZNAME:CST
DTSTART:20151101T070000
END:STANDARD
BEGIN:DAYLIGHT
TZOFFSETFROM:-0600
TZOFFSETTO:-0500
TZNAME:CDT
DTSTART:20160313T080000
END:DAYLIGHT
BEGIN:STANDARD
TZOFFSETFROM:-0500
TZOFFSETTO:-0600
TZNAME:CST
DTSTART:20161106T070000
END:STANDARD
BEGIN:DAYLIGHT
TZOFFSETFROM:-0600
TZOFFSETTO:-0500
TZNAME:CDT
DTSTART:20170312T080000
END:DAYLIGHT
BEGIN:STANDARD
TZOFFSETFROM:-0500
TZOFFSETTO:-0600
TZNAME:CST
DTSTART:20171105T070000
END:STANDARD
END:VTIMEZONE
BEGIN:VEVENT
DTSTART;TZID=America/Toronto:20170815T080000
DTEND;TZID=America/Toronto:20170820T170000
DTSTAMP:20260421T104212
CREATED:20170106T030149Z
LAST-MODIFIED:20170106T030224Z
UID:1358-1502784000-1503248400@trapshooting.academy
SUMMARY:ISSF Junior World Cup Porpetto\, IT
DESCRIPTION:
URL:https://trapshooting.academy/calendar/issf-junior-world-cup-porpetto/
LOCATION:Porpetto\, Italy
CATEGORIES:International Competitions,ISSF Competitions,SFC Competitions
END:VEVENT
BEGIN:VEVENT
DTSTART;TZID=America/Toronto:20170726T080000
DTEND;TZID=America/Toronto:20170730T170000
DTSTAMP:20260421T104212
CREATED:20170106T030017Z
LAST-MODIFIED:20170106T030017Z
UID:1355-1501056000-1501434000@trapshooting.academy
SUMMARY:SFC Trap Nationals 2017
DESCRIPTION:
URL:https://trapshooting.academy/calendar/sfc-trap-nationals-2017/
LOCATION:Toronto International Trap and Skeet\, 5206 5 Side Rd\, Cookstown\, Ontario\, L0L 1L0 \, Canada
CATEGORIES:High Performance Competitions,SFC Competitions
END:VEVENT
BEGIN:VEVENT
DTSTART;TZID=America/Toronto:20170206T080000
DTEND;TZID=America/Toronto:20170213T170000
DTSTAMP:20260421T104212
CREATED:20170113T000720Z
LAST-MODIFIED:20170119T173141Z
UID:1392-1486368000-1487005200@trapshooting.academy
SUMMARY:Senior National Training Camp
DESCRIPTION:February 6\, 2017: Travel \nFebruary 7-11\, 2017:  Training \nFebruary 12\, 2017: SFC Spring International Match\, 75 Targets \nFebruary 13\, 2017: Travel
URL:https://trapshooting.academy/calendar/senior-national-training-camp/
LOCATION:Tucson Trap & Skeet Club\, 7800 W. Old Ajo Highway\, Tucson\, AZ\, 85735\, United States
CATEGORIES:High Performance Camps,SFC Competitions
END:VEVENT
BEGIN:VEVENT
DTSTART;VALUE=DATE:20160714
DTEND;VALUE=DATE:20160720
DTSTAMP:20260421T104212
CREATED:20160307T153028Z
LAST-MODIFIED:20160607T151915Z
UID:1155-1468454400-1468972799@trapshooting.academy
SUMMARY:2016 Canadian International Trap Championships
DESCRIPTION:The 2016 Canadian Nationals in Olympic Trap will take place in Winnipeg\, MB\, hosted by The Winnipeg Trap and Skeet Club. \nThe WTSC is located 4km southwest of Oak Bluff (just past the Perimeter) on Highway #3. \nCoordinates: (49.7440\, -97.3526) \n— \n2016-Trap-Nationals-competition_Final\n 
URL:https://trapshooting.academy/calendar/2016-canadian-international-trap-championships/
LOCATION:The Winnipeg Trap and Skeet Club\, Oak Bluff\, Manitoba\, R0G 1N0\, Canada
CATEGORIES:SFC Competitions
ORGANIZER;CN="David Mosscrop":MAILTO:drmosscrop@gmail.com
END:VEVENT
END:VCALENDAR